BEGIN:VCALENDAR
VERSION:2.0
PRODID:-//wp-events-plugin.com//7.0.5//EN
TZID:Europe/Vienna
X-WR-TIMEZONE:Europe/Vienna
BEGIN:VEVENT
UID:1@oedso.at
DTSTART;TZID=Europe/Vienna;VALUE=DATE:20170505
DTEND;TZID=Europe/Vienna;VALUE=DATE:20170508
DTSTAMP:20170404T104155Z
URL:https://www.oedso.at/web/turnier/grand-prix-vorarlberg-oedso
SUMMARY:Grand Prix Vorarlberg– ÖDSO
DESCRIPTION:
CATEGORIES:E-Dart
LOCATION:Sport und Mehrzweckhalle\, Treiestraße 17a\, Klaus\, Vorarlberg\,
  6833\, Österreich
GEO:47.3053694;9.643450900000062
X-APPLE-STRUCTURED-LOCATION;VALUE=URI;X-ADDRESS=Treiestraße 17a\, Klaus\, 
 Vorarlberg\, 6833\, Österreich;X-APPLE-RADIUS=100;X-TITLE=Sport und Mehrz
 weckhalle:geo:47.3053694,9.643450900000062
END:VEVENT
BEGIN:VTIMEZONE
TZID:Europe/Vienna
X-LIC-LOCATION:Europe/Vienna
BEGIN:DAYLIGHT
DTSTART:20170326T030000
TZOFFSETFROM:+0100
TZOFFSETTO:+0200
TZNAME:CEST
END:DAYLIGHT
END:VTIMEZONE
END:VCALENDAR